BEGIN:VCALENDAR
VERSION:2.0
PRODID:-//Plone.org//NONSGML plone.app.event//EN
X-WR-TIMEZONE:Europe/Berlin
BEGIN:VEVENT
SUMMARY:Virtueller Informationsabend "Berufsziel HAW-Professorin" der TH A
 ugsburg
DTSTART;TZID=Europe/Berlin;VALUE=DATE-TIME:20260309T173000
DTEND;TZID=Europe/Berlin;VALUE=DATE-TIME:20260309T193000
DTSTAMP;VALUE=DATE-TIME:20260420T033222Z
UID:5926255b857d48b387f2205f4cdb928d@www.lakof-bayern.de
CONTACT:Johanna Ertl\, lakof@oth-regensburg.de
CREATED;VALUE=DATE-TIME:20210113T140658Z
DESCRIPTION:In dieser Online-Informationsveranstaltung wird das Berufsbild
  der HAW-Professorin vorgestellt und die Teilnehmerinnen über die formale
 n Voraussetzungen\, den Ablauf von Berufungsverfahren und den Arbeitsallta
 g als HAW-Professorin informiert.
LAST-MODIFIED;VALUE=DATE-TIME:20260211T122858Z
LOCATION:virtuell
URL:https://www.lakof-bayern.de/nachrichten/termine/virtueller-information
 sabend-professorin-werden
END:VEVENT
BEGIN:VTIMEZONE
TZID:Europe/Berlin
X-LIC-LOCATION:Europe/Berlin
BEGIN:STANDARD
DTSTART;VALUE=DATE-TIME:20251026T020000
TZNAME:CET
TZOFFSETFROM:+0200
TZOFFSETTO:+0100
END:STANDARD
END:VTIMEZONE
END:VCALENDAR
