BEGIN:VCALENDAR
VERSION:2.0
PRODID:-//Plone.org//NONSGML plone.app.event//EN
X-WR-TIMEZONE:Europe/Berlin
BEGIN:VEVENT
SUMMARY:Virtueller Informationsabend "Berufsziel HAW-Professorin" der Hoch
 schule Kempten
DTSTART;TZID=Europe/Berlin;VALUE=DATE-TIME:20241105T173000
DTEND;TZID=Europe/Berlin;VALUE=DATE-TIME:20241105T200000
DTSTAMP;VALUE=DATE-TIME:20260420T015654Z
UID:7f7b7301cd2542f9a57d265b9b8b0818@www.lakof-bayern.de
CONTACT:Silke Schweiger\, silke.schweiger@hs-kempten.de
CREATED;VALUE=DATE-TIME:20210629T133919Z
DESCRIPTION:In dieser Online-Informationsveranstaltung wird das Berufsbild
  der HAW-Professorin vorgestellt und die Teilnehmerinnen über die formale
 n Voraussetzungen\, den Ablauf von Berufungsverfahren und den Arbeitsallta
 g als HAW-Professorin informiert.
LAST-MODIFIED;VALUE=DATE-TIME:20240912T103831Z
LOCATION:virtuell - Zoom
URL:https://www.lakof-bayern.de/nachrichten/termine/virtueller-information
 sabend-professorin-werden-der-fh-wuerzburg-schweinfurt
END:VEVENT
BEGIN:VTIMEZONE
TZID:Europe/Berlin
X-LIC-LOCATION:Europe/Berlin
BEGIN:STANDARD
DTSTART;VALUE=DATE-TIME:20241027T020000
TZNAME:CET
TZOFFSETFROM:+0200
TZOFFSETTO:+0100
END:STANDARD
END:VTIMEZONE
END:VCALENDAR
