BEGIN:VCALENDAR
VERSION:2.0
PRODID:-//Plone.org//NONSGML plone.app.event//EN
X-WR-TIMEZONE:Europe/Berlin
BEGIN:VEVENT
SUMMARY:Stipendiatinnentreffen 2023 in Passau
DTSTART;TZID=Europe/Berlin;VALUE=DATE-TIME:20230428T110000
DTSTAMP;VALUE=DATE-TIME:20260420T032914Z
UID:1244f3383af648debc41a454cfe4a347@www.lakof-bayern.de
CREATED;VALUE=DATE-TIME:20230222T082743Z
DESCRIPTION:Vernetzungstreffen der Stipendiatinnen der Bayerischen Gleichs
 tellungsförderung an der Universität Passau
LAST-MODIFIED;VALUE=DATE-TIME:20230222T083329Z
LOCATION:Passau
URL:https://www.lakof-bayern.de/nachrichten/termine/stipendiatinnentreffen
 -2023-in-passau
END:VEVENT
BEGIN:VTIMEZONE
TZID:Europe/Berlin
X-LIC-LOCATION:Europe/Berlin
BEGIN:DAYLIGHT
DTSTART;VALUE=DATE-TIME:20230326T030000
TZNAME:CEST
TZOFFSETFROM:+0100
TZOFFSETTO:+0200
END:DAYLIGHT
END:VTIMEZONE
END:VCALENDAR
