BEGIN:VCALENDAR
VERSION:2.0
PRODID:-//Plone.org//NONSGML plone.app.event//EN
X-WR-TIMEZONE:Europe/Berlin
BEGIN:VEVENT
SUMMARY:herCAREER Expo 17.-18. Oktober 2024
DTSTART;VALUE=DATE:20241017
DTEND;VALUE=DATE:20241019
DTSTAMP;VALUE=DATE-TIME:20260420T032914Z
UID:a12a91ceeaf34905a5adf967b1241343@www.lakof-bayern.de
CREATED;VALUE=DATE-TIME:20240822T141902Z
LAST-MODIFIED;VALUE=DATE-TIME:20240822T141905Z
LOCATION:München
URL:https://www.lakof-bayern.de/nachrichten/termine/hercareer-expo-17-18-o
 ktober-2024
END:VEVENT
END:VCALENDAR
