BEGIN:VCALENDAR
VERSION:2.0
PRODID:-//Plone.org//NONSGML plone.app.event//EN
X-WR-TIMEZONE:Europe/Berlin
BEGIN:VEVENT
SUMMARY:Digitale Sprechstunde "Werde Professorin" an einer HAW mit Prof. D
 r. Susan Schädlich
DTSTART;TZID=Europe/Berlin;VALUE=DATE-TIME:20250314T090000
DTEND;TZID=Europe/Berlin;VALUE=DATE-TIME:20250314T100000
DTSTAMP;VALUE=DATE-TIME:20260420T080104Z
UID:e06555a9000d48039551fb377aa3d659@www.lakof-bayern.de
CREATED;VALUE=DATE-TIME:20250226T135118Z
DESCRIPTION:Nutzen Sie die Chance\, sich mit einer Professorin zu Ihren pe
 rsönlichen Fragen rund um die Bewerbung auf eine Professur an einer Hochs
 chule für angewandte Wissenschaften auszutauschen.
LAST-MODIFIED;VALUE=DATE-TIME:20250226T140918Z
URL:https://www.lakof-bayern.de/nachrichten/termine/digitale-sprechstunde-
 werde-professorin-an-einer-haw-mit-prof-dr-susan-schaedlich
END:VEVENT
BEGIN:VTIMEZONE
TZID:Europe/Berlin
X-LIC-LOCATION:Europe/Berlin
BEGIN:STANDARD
DTSTART;VALUE=DATE-TIME:20241027T020000
TZNAME:CET
TZOFFSETFROM:+0200
TZOFFSETTO:+0100
END:STANDARD
END:VTIMEZONE
END:VCALENDAR
