BEGIN:VCALENDAR
VERSION:2.0
PRODID:-//Plone.org//NONSGML plone.app.event//EN
X-WR-TIMEZONE:Europe/Berlin
BEGIN:VEVENT
SUMMARY:Digitale Sprechstunde "Werde Professorin" an einer HAW mit Prof. D
 r. Christina Völkl-Wolf
DTSTART;TZID=Europe/Berlin;VALUE=DATE-TIME:20231108T170000
DTEND;TZID=Europe/Berlin;VALUE=DATE-TIME:20231108T180000
DTSTAMP;VALUE=DATE-TIME:20260420T032419Z
UID:cbe17a4bd88f47eb9e2d90e29fd9b097@www.lakof-bayern.de
CONTACT:Prof. Dr. Christina Völkl-Wolf\, christina.voelkl-wolf@thws.de
CREATED;VALUE=DATE-TIME:20231002T113457Z
DESCRIPTION:Nutzen Sie die Chance\, sich mit einer Professorin zu Ihren pe
 rsönlichen Fragen rund um die Bewerbung auf eine Professur an einer Hochs
 chule für angewandte Wissenschaften auszutauschen.
LAST-MODIFIED;VALUE=DATE-TIME:20231103T120913Z
LOCATION:virtuell - Zoom
URL:https://www.lakof-bayern.de/nachrichten/termine/digitale-sprechstunde-
 werde-professorin-an-einer-haw-mit-prof-dr-nina-leffers
END:VEVENT
BEGIN:VTIMEZONE
TZID:Europe/Berlin
X-LIC-LOCATION:Europe/Berlin
BEGIN:STANDARD
DTSTART;VALUE=DATE-TIME:20231029T020000
TZNAME:CET
TZOFFSETFROM:+0200
TZOFFSETTO:+0100
END:STANDARD
END:VTIMEZONE
END:VCALENDAR
