BEGIN:VCALENDAR
VERSION:2.0
PRODID:-//Plone.org//NONSGML plone.app.event//EN
X-WR-TIMEZONE:Europe/Berlin
BEGIN:VEVENT
SUMMARY:Digitale Sprechstunde "Werde Professorin" an einer HAW mit Prof. D
 r. Claudia Reuter
DTSTART;TZID=Europe/Berlin;VALUE=DATE-TIME:20250605T080000
DTEND;TZID=Europe/Berlin;VALUE=DATE-TIME:20250605T090000
DTSTAMP;VALUE=DATE-TIME:20260420T032838Z
UID:465d2f4be11c471a96e04b5de1effebe@www.lakof-bayern.de
CREATED;VALUE=DATE-TIME:20250519T075600Z
DESCRIPTION:Nutzen Sie die Chance\, sich mit einer Professorin zu Ihren pe
 rsönlichen Fragen rund um die Bewerbung auf eine Professur an einer Hochs
 chule für angewandte Wissenschaften auszutauschen.
LAST-MODIFIED;VALUE=DATE-TIME:20250519T075603Z
URL:https://www.lakof-bayern.de/nachrichten/termine/digitale-sprechstunde-
 werde-professorin-an-einer-haw-mit-prof-dr-claudia-reuter
END:VEVENT
BEGIN:VTIMEZONE
TZID:Europe/Berlin
X-LIC-LOCATION:Europe/Berlin
BEGIN:DAYLIGHT
DTSTART;VALUE=DATE-TIME:20250330T030000
TZNAME:CEST
TZOFFSETFROM:+0100
TZOFFSETTO:+0200
END:DAYLIGHT
END:VTIMEZONE
END:VCALENDAR
