BEGIN:VCALENDAR
VERSION:2.0
PRODID:-//Plone.org//NONSGML plone.app.event//EN
X-WR-TIMEZONE:Europe/Berlin
BEGIN:VEVENT
SUMMARY:Digitale Sprechstunde "Werde Professorin" an einer HAW mit Prof. D
 r. Brigitte Kölzer
DTSTART;TZID=Europe/Berlin;VALUE=DATE-TIME:20240117T180000
DTEND;TZID=Europe/Berlin;VALUE=DATE-TIME:20240117T190000
DTSTAMP;VALUE=DATE-TIME:20260420T055824Z
UID:a85c2b0ab5af46bf8e9fc8c8b0202c31@www.lakof-bayern.de
CONTACT:Prof. Dr. Brigitte Kölzer\, brigitte.koelzer@th-rosenheim.de
CREATED;VALUE=DATE-TIME:20230523T070707Z
DESCRIPTION:Nutzen Sie die Chance\, sich mit einer Professorin zu Ihren pe
 rsönlichen Fragen rund um die Bewerbung auf eine Professur an einer Hochs
 chule für angewandte Wissenschaften auszutauschen.
LAST-MODIFIED;VALUE=DATE-TIME:20240109T115128Z
LOCATION:virtuell - Zoom
URL:https://www.lakof-bayern.de/nachrichten/termine/digitale-sprechstunde-
 werde-professorin-an-einer-haw-mit-prof-dr-brigitte-koelzer
END:VEVENT
BEGIN:VTIMEZONE
TZID:Europe/Berlin
X-LIC-LOCATION:Europe/Berlin
BEGIN:STANDARD
DTSTART;VALUE=DATE-TIME:20231029T020000
TZNAME:CET
TZOFFSETFROM:+0200
TZOFFSETTO:+0100
END:STANDARD
END:VTIMEZONE
END:VCALENDAR
