BEGIN:VCALENDAR
VERSION:2.0
PRODID:-//Plone.org//NONSGML plone.app.event//EN
X-WR-TIMEZONE:Europe/Berlin
BEGIN:VEVENT
SUMMARY:Gemeinsame Sitzung der LaKoF (intern)
DTSTART;VALUE=DATE:20230707
DTEND;VALUE=DATE:20230708
DTSTAMP;VALUE=DATE-TIME:20260420T034228Z
UID:1e5c790dece740ad8c7857457c3ec0d8@www.lakof-bayern.de
CREATED;VALUE=DATE-TIME:20230523T063750Z
DESCRIPTION:Die nächste Landeskonferenz - gemeinsame Sitzung - findet am 
 07.07.2023 als Präsenzveranstaltung im Staatsministerium in München stat
 t. Nähere Informationen erhalten die Mitglieder der LaKoF in der Einladun
 g.
LAST-MODIFIED;VALUE=DATE-TIME:20250219T092458Z
LOCATION:München\, Staatsministerium
URL:https://www.lakof-bayern.de/nachrichten/termine/copy_of_gemeinsame-sit
 zung-der-lakof
END:VEVENT
END:VCALENDAR
