BEGIN:VCALENDAR
VERSION:2.0
PRODID:-//Plone.org//NONSGML plone.app.event//EN
X-WR-TIMEZONE:Europe/Berlin
BEGIN:VEVENT
SUMMARY:Digitale Sprechstunde "Werde Professorin" an einer HAW mit Prof. D
 r. Brigitte Kölzer
DTSTART;TZID=Europe/Berlin;VALUE=DATE-TIME:20250414T190000
DTEND;TZID=Europe/Berlin;VALUE=DATE-TIME:20250414T200000
DTSTAMP;VALUE=DATE-TIME:20260420T015132Z
UID:9ada5fa0acab4807a53f63c5c34545ca@www.lakof-bayern.de
CREATED;VALUE=DATE-TIME:20250226T135118Z
DESCRIPTION:Nutzen Sie die Chance\, sich mit einer Professorin zu Ihren pe
 rsönlichen Fragen rund um die Bewerbung auf eine Professur an einer Hochs
 chule für angewandte Wissenschaften auszutauschen.
LAST-MODIFIED;VALUE=DATE-TIME:20250403T123603Z
URL:https://www.lakof-bayern.de/nachrichten/termine/copy_of_digitale-sprec
 hstunde-werde-professorin-an-einer-haw-mit-prof-dr-susan-schaedlich
END:VEVENT
BEGIN:VTIMEZONE
TZID:Europe/Berlin
X-LIC-LOCATION:Europe/Berlin
BEGIN:DAYLIGHT
DTSTART;VALUE=DATE-TIME:20250330T030000
TZNAME:CEST
TZOFFSETFROM:+0100
TZOFFSETTO:+0200
END:DAYLIGHT
END:VTIMEZONE
END:VCALENDAR
