BEGIN:VCALENDAR
VERSION:2.0
PRODID:-//Plone.org//NONSGML plone.app.event//EN
X-WR-TIMEZONE:Europe/Berlin
BEGIN:VEVENT
SUMMARY:Seminar "Berufsziel HAW-Professorin" an der TH Nürnberg
DTSTART;TZID=Europe/Berlin;VALUE=DATE-TIME:20261113T090000
DTEND;TZID=Europe/Berlin;VALUE=DATE-TIME:20261114T170000
DTSTAMP;VALUE=DATE-TIME:20260420T174544Z
UID:c1d0e2dbb1fd46779993f8aa18e68c6a@www.lakof-bayern.de
CONTACT:Johanna Ertl\, lakof@oth-regensburg.de
CREATED;VALUE=DATE-TIME:20240719T095934Z
DESCRIPTION:Das Seminar "Berufsziel HAW-Professorin" bietet Akademikerinne
 n an zwei Tagen ein intensives Coaching und Training zum Berufungsverfahre
 n an einer Hochschule für angewandte Wissenschaften.
LAST-MODIFIED;VALUE=DATE-TIME:20260420T114615Z
LOCATION:TH Nürnberg Georg Simon Ohm
URL:https://www.lakof-bayern.de/nachrichten/termine/copy3_of_seminar-beruf
 sziel-haw-professorin-2
END:VEVENT
BEGIN:VTIMEZONE
TZID:Europe/Berlin
X-LIC-LOCATION:Europe/Berlin
BEGIN:STANDARD
DTSTART;VALUE=DATE-TIME:20261025T020000
TZNAME:CET
TZOFFSETFROM:+0200
TZOFFSETTO:+0100
END:STANDARD
END:VTIMEZONE
END:VCALENDAR
