BEGIN:VCALENDAR
VERSION:2.0
PRODID:-//Plone.org//NONSGML plone.app.event//EN
X-WR-TIMEZONE:Europe/Berlin
BEGIN:VEVENT
SUMMARY:Virtueller Informationsabend "Berufsziel HAW-Professorin" der OTH 
 Regensburg
DTSTART;TZID=Europe/Berlin;VALUE=DATE-TIME:20260505T170000
DTEND;TZID=Europe/Berlin;VALUE=DATE-TIME:20260505T190000
DTSTAMP;VALUE=DATE-TIME:20260420T011508Z
UID:0df9b7b827854ce1a9fd30d50ec41e39@www.lakof-bayern.de
CONTACT:Johanna Ertl\, lakof@oth-regensburg.de
CREATED;VALUE=DATE-TIME:20210113T140658Z
DESCRIPTION:In dieser Online-Informationsveranstaltung wird das Berufsbild
  der HAW-Professorin vorgestellt und die Teilnehmerinnen über die formale
 n Voraussetzungen\, den Ablauf von Berufungsverfahren und den Arbeitsallta
 g als HAW-Professorin informiert.
LAST-MODIFIED;VALUE=DATE-TIME:20260325T160320Z
LOCATION:virtuell
URL:https://www.lakof-bayern.de/nachrichten/termine/virtueller-information
 sabend-professorin-werden-1
END:VEVENT
BEGIN:VEVENT
SUMMARY:Informationsabend Professorin werden an der Hochschule München
DTSTART;TZID=Europe/Berlin;VALUE=DATE-TIME:20260521T170000
DTEND;TZID=Europe/Berlin;VALUE=DATE-TIME:20260521T193000
DTSTAMP;VALUE=DATE-TIME:20260420T011508Z
UID:7ca7fad66d094dd69aed5de003764473@www.lakof-bayern.de
CONTACT:Katharina Bässler\, katharina.baessler@hm.edu\, https://eveeno.co
 m/268796908
CREATED;VALUE=DATE-TIME:20220328T122840Z
DESCRIPTION:Die Hochschule München lädt Frauen* mit Interesse an einer H
 ochschulprofessur ein\, um sie über das Berufsbild zu informieren.
LAST-MODIFIED;VALUE=DATE-TIME:20260317T144735Z
LOCATION:Hochschule München\, Lothstr. 34\, Raum A104
URL:https://www.lakof-bayern.de/nachrichten/termine/informationsabend-1
END:VEVENT
BEGIN:VTIMEZONE
TZID:Europe/Berlin
X-LIC-LOCATION:Europe/Berlin
BEGIN:DAYLIGHT
DTSTART;VALUE=DATE-TIME:20260329T030000
TZNAME:CEST
TZOFFSETFROM:+0100
TZOFFSETTO:+0200
END:DAYLIGHT
END:VTIMEZONE
END:VCALENDAR
