BEGIN:VCALENDAR
VERSION:2.0
PRODID:-//Plone.org//NONSGML plone.app.event//EN
X-WR-TIMEZONE:Europe/Berlin
BEGIN:VEVENT
SUMMARY:Sitzung der LaKoF Bayern (HAW)
DTSTART;VALUE=DATE:20260122
DTEND;VALUE=DATE:20260124
DTSTAMP;VALUE=DATE-TIME:20260420T014429Z
UID:90a4d784ac9844e09f7eb3399c2c66f3@www.lakof-bayern.de
CONTACT:Johanna Ertl\, lakof@oth-regensburg.de
CREATED;VALUE=DATE-TIME:20251015T133913Z
LAST-MODIFIED;VALUE=DATE-TIME:20251015T133958Z
LOCATION:HAW Landshut
URL:https://www.lakof-bayern.de/nachrichten/termine/77-sitzung-der-lakof-b
 ayern-haw
END:VEVENT
END:VCALENDAR
